BEGIN:VCALENDAR
VERSION:2.0
PRODID:-//Maia Waern - ECPv5.1.6//NONSGML v1.0//EN
CALSCALE:GREGORIAN
METHOD:PUBLISH
X-WR-CALNAME:Maia Waern
X-ORIGINAL-URL:http://dev.maiawaern.com
X-WR-CALDESC:Events for Maia Waern
BEGIN:VTIMEZONE
TZID:America/Toronto
BEGIN:DAYLIGHT
TZOFFSETFROM:-0500
TZOFFSETTO:-0400
TZNAME:EDT
DTSTART:20140309T070000
END:DAYLIGHT
BEGIN:STANDARD
TZOFFSETFROM:-0400
TZOFFSETTO:-0500
TZNAME:EST
DTSTART:20141102T060000
END:STANDARD
END:VTIMEZONE
BEGIN:VEVENT
DTSTART;TZID=America/Toronto:20140308T100000
DTEND;TZID=America/Toronto:20140308T130000
DTSTAMP:20260424T060626
CREATED:20140207T182856Z
LAST-MODIFIED:20140207T183115Z
UID:868-1394272800-1394283600@dev.maiawaern.com
SUMMARY:UKULELES ON A BLANKET
DESCRIPTION:UKULELES ON A BLANKET \nDuring The Stop’s Farmers’ Market \nat Wychwood Barns\, 601 Christie St \n2 blocks south of St. Clair Ave West \nSaturday\, March 8th\,  2014 \nYou can find Maia 10am-1pm \nSitting on a blanket\, on the floor \nStrumming & singing\, near the doors \nBrown ukulele in her hands \nBouncing toddlers in the band \nRed & yellow ukuleles for kids to try \nAnd a Fender uke for adults who say hi \nSinging sweet songs by Bob Marley \nAnd Wheels on the Bus\, Itsy & ABC \nFind Maia’s blanket\, sit on your bum \nGrab a ukulele and enjoy a strum!
URL:http://dev.maiawaern.com/event/ukuleles-on-a-blanket-2/
LOCATION:The Stop’s Farmers’ Market\, Wychwood Barns\, 601 Christie St\, Toronto\, Ontario\, Canada
ATTACH;FMTTYPE=image/jpeg:https://dev.maiawaern.com/wp-content/uploads/2014/02/uke_hands_400p.jpg
END:VEVENT
END:VCALENDAR