BEGIN:VCALENDAR
VERSION:2.0
PRODID:-//Maia Waern - ECPv5.1.6//NONSGML v1.0//EN
CALSCALE:GREGORIAN
METHOD:PUBLISH
X-WR-CALNAME:Maia Waern
X-ORIGINAL-URL:http://dev.maiawaern.com
X-WR-CALDESC:Events for Maia Waern
BEGIN:VTIMEZONE
TZID:America/Toronto
BEGIN:DAYLIGHT
TZOFFSETFROM:-0500
TZOFFSETTO:-0400
TZNAME:EDT
DTSTART:20140309T070000
END:DAYLIGHT
BEGIN:STANDARD
TZOFFSETFROM:-0400
TZOFFSETTO:-0500
TZNAME:EST
DTSTART:20141102T060000
END:STANDARD
END:VTIMEZONE
BEGIN:VEVENT
DTSTART;TZID=America/Toronto:20140619T170000
DTEND;TZID=America/Toronto:20140619T200000
DTSTAMP:20260422T023012
CREATED:20140612T031546Z
LAST-MODIFIED:20140612T031546Z
UID:1035-1403197200-1403208000@dev.maiawaern.com
SUMMARY:Maia's Uke Jam
DESCRIPTION:Maia’s Uke Jam has a new venue! \nThere is so much to be thankful for… \nLet’s celebrate in song!
URL:http://dev.maiawaern.com/event/maias-uke-jam-6/
LOCATION:Full of Beans Coffee House & Roastery\, 1348 Dundas St. West\, Toronto\, Ontario\, Canada
ATTACH;FMTTYPE=image/jpeg:https://dev.maiawaern.com/wp-content/uploads/2014/06/June-19-Uke-Jam.jpg
END:VEVENT
END:VCALENDAR