BEGIN:VCALENDAR
VERSION:2.0
PRODID:-//Maia Waern - ECPv5.1.6//NONSGML v1.0//EN
CALSCALE:GREGORIAN
METHOD:PUBLISH
X-WR-CALNAME:Maia Waern
X-ORIGINAL-URL:http://dev.maiawaern.com
X-WR-CALDESC:Events for Maia Waern
BEGIN:VTIMEZONE
TZID:America/Toronto
BEGIN:DAYLIGHT
TZOFFSETFROM:-0500
TZOFFSETTO:-0400
TZNAME:EDT
DTSTART:20140309T070000
END:DAYLIGHT
BEGIN:STANDARD
TZOFFSETFROM:-0400
TZOFFSETTO:-0500
TZNAME:EST
DTSTART:20141102T060000
END:STANDARD
END:VTIMEZONE
BEGIN:VEVENT
DTSTART;TZID=America/Toronto:20140417T180000
DTEND;TZID=America/Toronto:20140417T210000
DTSTAMP:20260422T043158
CREATED:20140403T033717Z
LAST-MODIFIED:20140403T033849Z
UID:879-1397757600-1397768400@dev.maiawaern.com
SUMMARY:Maia's Uke Jam
DESCRIPTION:On the Third Thursday of each month \nTreat yourself to a night on the Ukulele \n  \nGet to know local Uke-minded folks \nAnd play songs you forgot you love \n  \nAn all-ages event\, for beginners and up \nMaia’s Uke Jams are always adaptable \n  \nCompassion strums well with gratitude \nWe all strum for our own reasons \nAnd also for the same reasons \n  \nIn-house Ukes available during jam \nSinging friends welcome\, of course \n  \nEllington’s is a musical café & oasis \nWith a relaxed vibe that also grooves \nUnder soft lights and a real palm tree \nAnd the sweet aroma of fresh coffee \n  \nDonations help with printing & parking \n* Remember to trim your fingernails *
URL:http://dev.maiawaern.com/event/maias-uke-jam-4/
LOCATION:Ellington’s Music Cafe\, 805 St. Clair Ave. West\, Toronto\, Ontario\, Canada
ATTACH;FMTTYPE=image/jpeg:https://dev.maiawaern.com/wp-content/uploads/2014/04/Uke-Jam-April-17th.jpg
END:VEVENT
END:VCALENDAR