BEGIN:VCALENDAR
VERSION:2.0
PRODID:-//Maia Waern - ECPv5.1.6//NONSGML v1.0//EN
CALSCALE:GREGORIAN
METHOD:PUBLISH
X-WR-CALNAME:Maia Waern
X-ORIGINAL-URL:http://dev.maiawaern.com
X-WR-CALDESC:Events for Maia Waern
BEGIN:VTIMEZONE
TZID:America/Toronto
BEGIN:DAYLIGHT
TZOFFSETFROM:-0500
TZOFFSETTO:-0400
TZNAME:EDT
DTSTART:20160313T070000
END:DAYLIGHT
BEGIN:STANDARD
TZOFFSETFROM:-0400
TZOFFSETTO:-0500
TZNAME:EST
DTSTART:20161106T060000
END:STANDARD
END:VTIMEZONE
BEGIN:VEVENT
DTSTART;TZID=America/Toronto:20160218T170000
DTEND;TZID=America/Toronto:20160218T200000
DTSTAMP:20260421T043710
CREATED:20160103T153632Z
LAST-MODIFIED:20160129T034949Z
UID:1669-1455814800-1455825600@dev.maiawaern.com
SUMMARY:Maia's Uke Jam
DESCRIPTION:On the third Thursday of the month\n\n\nUkuleles and comfy chairs in-house\n\n\n$5 or pay what you can ~ smiles accepted!\n\n\nSee uke soon!
URL:http://dev.maiawaern.com/event/maias-uke-jam-26/
LOCATION:Full of Beans Coffee House & Roastery\, 1348 Dundas St. West\, Toronto\, Ontario\, Canada
ATTACH;FMTTYPE=image/jpeg:https://dev.maiawaern.com/wp-content/uploads/2016/01/Feb-18-2016-Uke-Jam.jpg
END:VEVENT
END:VCALENDAR