BEGIN:VCALENDAR
VERSION:2.0
PRODID:-//Maia Waern - ECPv5.1.6//NONSGML v1.0//EN
CALSCALE:GREGORIAN
METHOD:PUBLISH
X-WR-CALNAME:Maia Waern
X-ORIGINAL-URL:http://dev.maiawaern.com
X-WR-CALDESC:Events for Maia Waern
BEGIN:VTIMEZONE
TZID:America/Toronto
BEGIN:DAYLIGHT
TZOFFSETFROM:-0500
TZOFFSETTO:-0400
TZNAME:EDT
DTSTART:20150308T070000
END:DAYLIGHT
BEGIN:STANDARD
TZOFFSETFROM:-0400
TZOFFSETTO:-0500
TZNAME:EST
DTSTART:20151101T060000
END:STANDARD
END:VTIMEZONE
BEGIN:VEVENT
DTSTART;TZID=America/Toronto:20150416T170000
DTEND;TZID=America/Toronto:20150416T200000
DTSTAMP:20260421T104715
CREATED:20150328T043138Z
LAST-MODIFIED:20150406T174522Z
UID:1432-1429203600-1429214400@dev.maiawaern.com
SUMMARY:Maia's Uke Jam
DESCRIPTION:Maia’s Uke Jam is an intimate strum circle in a cozy coffee house \n \nIt’s a monthly event ~ happily part of “Dundas West Third Thursdays” \n \nKids of all ages are welcome to try strumming along to kid-friendly songs\, and kids who are ready can learn some chords \n \nUnwind from the day with soup and a song ~ homemade foods and ukuleles are in-house!
URL:http://dev.maiawaern.com/event/maias-uke-jam-16/
LOCATION:Full of Beans Coffee House & Roastery\, 1348 Dundas St. West\, Toronto\, Ontario\, Canada
ATTACH;FMTTYPE=image/jpeg:https://dev.maiawaern.com/wp-content/uploads/2015/03/April-16-2015-Uke-Jam.jpg
END:VEVENT
END:VCALENDAR