BEGIN:VCALENDAR
VERSION:2.0
PRODID:-//Maia Waern - ECPv5.1.6//NONSGML v1.0//EN
CALSCALE:GREGORIAN
METHOD:PUBLISH
X-WR-CALNAME:Maia Waern
X-ORIGINAL-URL:http://dev.maiawaern.com
X-WR-CALDESC:Events for Maia Waern
BEGIN:VTIMEZONE
TZID:America/Toronto
BEGIN:DAYLIGHT
TZOFFSETFROM:-0500
TZOFFSETTO:-0400
TZNAME:EDT
DTSTART:20150308T070000
END:DAYLIGHT
BEGIN:STANDARD
TZOFFSETFROM:-0400
TZOFFSETTO:-0500
TZNAME:EST
DTSTART:20151101T060000
END:STANDARD
END:VTIMEZONE
BEGIN:VEVENT
DTSTART;TZID=America/Toronto:20150319T170000
DTEND;TZID=America/Toronto:20150319T200000
DTSTAMP:20260421T122122
CREATED:20150227T050925Z
LAST-MODIFIED:20150227T050925Z
UID:1429-1426784400-1426795200@dev.maiawaern.com
SUMMARY:Maia's Uke Jam
DESCRIPTION:Maia’s Uke Jam in March is: \n~ a small strum circle with a lot of heart\n~ happily part of Dundas West Third Thursdays\n~ on the day before SPRING!!! \n~ kids & beginners welcome\n~ ukuleles & strum books in-house\n~ Acoustic Uke Open Stage at 7:30pm \n$5 or pay what you can \nStrum for the love of ukuleles\n& stay for the love songs! \nFor example… \nROCKIN’ ROBIN\n~ J. Thomas \nG  C  D \n    G\nHe rocks in the treetops all day long \nHoppin’ and a boppin’ and a singin’ his song \nAll the little birds on Jaybird Street \nLove to hear the robin goin’ tweet\, tweet\, tweet \nCHORUS\n        C\nRockin’ robin\n        G\nRockin’ robin\nD\nBlow\, rockin’ robin \n‘Cause we’re\nC\nreally gonna rock\nG\ntonight \nG\nEv’ry little swallow\, ev’ry chickadee \nEv’ry little bird in the tall oak tree \nThe wise old owl\, the big black crow \nFlap their wings singin’ go\, bird\, go! \nCHORUS \n   C\nA pretty little raven at the bird bandstand\nG\nTaught him how to do the bop and it was grand\n     C\nThey started goin’ steady and bless my soul\n   D\nHe out-bopped the buzzard and the oriole \n(First verse\, then CHORUS)
URL:http://dev.maiawaern.com/event/maias-uke-jam-15/
LOCATION:Full of Beans Coffee House & Roastery\, 1348 Dundas St. West\, Toronto\, Ontario\, Canada
ATTACH;FMTTYPE=image/jpeg:https://dev.maiawaern.com/wp-content/uploads/2015/02/March-19-2015-Uke-Jam1.jpg
END:VEVENT
END:VCALENDAR