BEGIN:VCALENDAR
VERSION:2.0
PRODID:-//Maia Waern - ECPv5.1.6//NONSGML v1.0//EN
CALSCALE:GREGORIAN
METHOD:PUBLISH
X-WR-CALNAME:Maia Waern
X-ORIGINAL-URL:http://dev.maiawaern.com
X-WR-CALDESC:Events for Maia Waern
BEGIN:VTIMEZONE
TZID:America/Toronto
BEGIN:DAYLIGHT
TZOFFSETFROM:-0500
TZOFFSETTO:-0400
TZNAME:EDT
DTSTART:20150308T070000
END:DAYLIGHT
BEGIN:STANDARD
TZOFFSETFROM:-0400
TZOFFSETTO:-0500
TZNAME:EST
DTSTART:20151101T060000
END:STANDARD
END:VTIMEZONE
BEGIN:VEVENT
DTSTART;TZID=America/Toronto:20150528T200000
DTEND;TZID=America/Toronto:20150528T220000
DTSTAMP:20260421T091402
CREATED:20150407T001407Z
LAST-MODIFIED:20150407T032832Z
UID:1443-1432843200-1432850400@dev.maiawaern.com
SUMMARY:Maia Waern at Musideum
DESCRIPTION:Poster photo\, above\, by Danny Marks  \nPerformance photo\, below\, by Faizal Sheriff\, photographic01.com \n \nMaia Waern’s Musideum performance will feature songs from her new solo album\, I’ll Be Here\, due to be released in May 2015. \n \nMaia’s new tracks feature 9 songs on ukulele (and a thumb piano lullaby) about the reassurance that comes from hope\, love\, and gratitude. \n \nAlso\, as well as sharing unrecorded originals\, Maia will be performing selections from her debut album\, From Now On; including Train Tracks\, which receives regular airplay on Jazzfm’s Saturday night blues program\, Bluzfm. \nHere’s Maia’s homemade video for Train Tracks \n \nYou can hear more tracks from Maia’s debut album on SoundCloud \n \n“A unique and personal performer\, Maia’s heart songs speak to and from the heart in a direct and delicate way\, perfectly.”\n~ Danny Marks\, JAZZ.FM91 \n“Maia is a graduate from the University of Bobs: Bob Marley\, Bob Dylan\, and Bob Snider.” ~ A Fan \nConcert begins at 8pm sharp (performance will be recorded) \n“I’ll Be Here” and “From Now On” CDs will be available for $15 each
URL:http://dev.maiawaern.com/event/maia-waern-at-musideum/
LOCATION:Musideum\, 401 Richmond St W\, Main Floor\, Suite 133\, Toronto\, Ontario\, M5V 3A8\, Canada
ATTACH;FMTTYPE=image/jpeg:https://dev.maiawaern.com/wp-content/uploads/2015/04/May-28-2015-Musideum.jpg
END:VEVENT
END:VCALENDAR