BEGIN:VCALENDAR
VERSION:2.0
PRODID:-//Maia Waern - ECPv5.1.6//NONSGML v1.0//EN
CALSCALE:GREGORIAN
METHOD:PUBLISH
X-WR-CALNAME:Maia Waern
X-ORIGINAL-URL:http://dev.maiawaern.com
X-WR-CALDESC:Events for Maia Waern
BEGIN:VTIMEZONE
TZID:America/Toronto
BEGIN:DAYLIGHT
TZOFFSETFROM:-0500
TZOFFSETTO:-0400
TZNAME:EDT
DTSTART:20140309T070000
END:DAYLIGHT
BEGIN:STANDARD
TZOFFSETFROM:-0400
TZOFFSETTO:-0500
TZNAME:EST
DTSTART:20141102T060000
END:STANDARD
END:VTIMEZONE
BEGIN:VEVENT
DTSTART;TZID=America/Toronto:20140921T140000
DTEND;TZID=America/Toronto:20140921T150000
DTSTAMP:20260421T201818
CREATED:20140828T045004Z
LAST-MODIFIED:20140828T045004Z
UID:1225-1411308000-1411311600@dev.maiawaern.com
SUMMARY:Maia Waern at Full of Beans
DESCRIPTION:HAPPY BIRTHDAY\, FULL OF BEANS! \nI am happy to be a part of Full of Beans Coffee House & Roastery’s 4th Birthday Celebrations! \nWhat gifts am I bringing to the party?  A one-hour set of 3-minute songs about time and love! \nThis will be a solo performance (with Ansgar on my mind)
URL:http://dev.maiawaern.com/event/maia-waern-at-full-of-beans/
LOCATION:Full of Beans Coffee House & Roastery\, 1348 Dundas St. West\, Toronto\, Ontario\, Canada
ATTACH;FMTTYPE=image/jpeg:https://dev.maiawaern.com/wp-content/uploads/2014/08/MaiaSept21.jpg
END:VEVENT
END:VCALENDAR