BEGIN:VCALENDAR
VERSION:2.0
PRODID:-//Maia Waern - ECPv5.1.6//NONSGML v1.0//EN
CALSCALE:GREGORIAN
METHOD:PUBLISH
X-WR-CALNAME:Maia Waern
X-ORIGINAL-URL:http://dev.maiawaern.com
X-WR-CALDESC:Events for Maia Waern
BEGIN:VTIMEZONE
TZID:America/Toronto
BEGIN:DAYLIGHT
TZOFFSETFROM:-0500
TZOFFSETTO:-0400
TZNAME:EDT
DTSTART:20140309T070000
END:DAYLIGHT
BEGIN:STANDARD
TZOFFSETFROM:-0400
TZOFFSETTO:-0500
TZNAME:EST
DTSTART:20141102T060000
END:STANDARD
END:VTIMEZONE
BEGIN:VEVENT
DTSTART;TZID=America/Toronto:20140510T080000
DTEND;TZID=America/Toronto:20140510T170000
DTSTAMP:20260422T042030
CREATED:20140430T013013Z
LAST-MODIFIED:20140430T013455Z
UID:942-1399708800-1399741200@dev.maiawaern.com
SUMMARY:Kids Open Stage
DESCRIPTION:On the Second SATURDAY this month \nOn the day BEFORE Mother’s Day… \n  \nCome for a song and stay for a smile \nYou can sing\, sing along\, or listen for a while \n  \nThere are hand drums & ukuleles in-house \nAnd mics\, so it’s okay to sing like a mouse \n  \nTeddy bears also get a turn to sing along \nEven if they can BEARly sing\, and get the words wrong \n  \nAudience members are always welcome to stay \nAnd musical families are invited to play \n  \nAt this event\, it’s the kids who get the stage \nBecause stars begin to shine at a very young age \n  \nDonations help fund printing & parking \n* Remember to bring your camera *
URL:http://dev.maiawaern.com/event/kidsmay10/
LOCATION:Ellington’s Music Cafe\, 805 St. Clair Ave. West\, Toronto\, Ontario\, Canada
CATEGORIES:Toronto Shows
ATTACH;FMTTYPE=image/jpeg:https://dev.maiawaern.com/wp-content/uploads/2014/04/Kids-Open-Stage-May-10.jpg
END:VEVENT
END:VCALENDAR