BEGIN:VCALENDAR
VERSION:2.0
PRODID:-//Maia Waern - ECPv5.1.6//NONSGML v1.0//EN
CALSCALE:GREGORIAN
METHOD:PUBLISH
X-WR-CALNAME:Maia Waern
X-ORIGINAL-URL:http://dev.maiawaern.com
X-WR-CALDESC:Events for Maia Waern
BEGIN:VTIMEZONE
TZID:America/Toronto
BEGIN:DAYLIGHT
TZOFFSETFROM:-0500
TZOFFSETTO:-0400
TZNAME:EDT
DTSTART:20140309T070000
END:DAYLIGHT
BEGIN:STANDARD
TZOFFSETFROM:-0400
TZOFFSETTO:-0500
TZNAME:EST
DTSTART:20141102T060000
END:STANDARD
END:VTIMEZONE
BEGIN:VEVENT
DTSTART;TZID=America/Toronto:20140309T160000
DTEND;TZID=America/Toronto:20140309T180000
DTSTAMP:20260422T055729
CREATED:20140224T031419Z
LAST-MODIFIED:20140226T132304Z
UID:873-1394380800-1394388000@dev.maiawaern.com
SUMMARY:KIDS OPEN STAGE
DESCRIPTION:KIDS OPEN STAGE IS NOW MONTHLY! \n  \nI’ve been getting stopped by parents lately \nAsking about the next KIDS OPEN STAGE \n  \nSo I went to book one\, and I’m glad I did \nBecause now I’m really looking forward \nTo the SECOND SUNDAY OF EACH MONTH! \n  \nKIDS OPEN STAGE was not my idea alone \nLucia of Dave’s Gourmet Pizza asked me \nOn the same day I was going to ask her… \n  \nWhen Dave’s changed hands\, so did we \nI forget who suggested Ellington’s \nI would love to thank them \n  \nEllington’s is a musical café & oasis \nWith a real stage and microphones \nMany sizes of hand drums in-house \nAnd a vibe that is as gentle as it is groovy \n  \nSometimes we applaud by drumming \nAnd I bring ukuleles for strumming \n  \nFamilies are encouraged to sing together \nAnd kids can sing alone\, if that’s better \nTeddy bears get their own microphone \n  \nMany kinds of talents are welcome \nEven comedians\, I guess… \n  \nHosted by me\, Maia Waern\, “officially” \nHosted by the kids\, in reality! \n  \nSuggested cost covers printing & parking \n** Remember to bring your camera ** \n  \nSee you there! \nMaia \n  \nP.S.  For those of you on Facebook\, \nKids Open Stage has a page… \nwww.facebook.com/kidsopenstage
URL:http://dev.maiawaern.com/event/kids-open-stage/
LOCATION:Ellington’s Music Cafe\, 805 St. Clair Ave. West\, Toronto\, Ontario\, Canada
ATTACH;FMTTYPE=image/jpeg:https://dev.maiawaern.com/wp-content/uploads/2014/02/Kids-Open-Stage-March-9.jpg
END:VEVENT
END:VCALENDAR