BEGIN:VCALENDAR
VERSION:2.0
PRODID:-//Maia Waern - ECPv5.1.6//NONSGML v1.0//EN
CALSCALE:GREGORIAN
METHOD:PUBLISH
X-WR-CALNAME:Maia Waern
X-ORIGINAL-URL:http://dev.maiawaern.com
X-WR-CALDESC:Events for Maia Waern
BEGIN:VTIMEZONE
TZID:America/Toronto
BEGIN:DAYLIGHT
TZOFFSETFROM:-0500
TZOFFSETTO:-0400
TZNAME:EDT
DTSTART:20140309T070000
END:DAYLIGHT
BEGIN:STANDARD
TZOFFSETFROM:-0400
TZOFFSETTO:-0500
TZNAME:EST
DTSTART:20141102T060000
END:STANDARD
END:VTIMEZONE
BEGIN:VEVENT
DTSTART;TZID=America/Toronto:20141220T140000
DTEND;TZID=America/Toronto:20141220T160000
DTSTAMP:20260421T153153
CREATED:20141130T070746Z
LAST-MODIFIED:20141130T221529Z
UID:1329-1419084000-1419091200@dev.maiawaern.com
SUMMARY:Kids Open Stage at Full of Beans
DESCRIPTION:The next Kids Open Stage\nat Full of Beans Coffee House & Roastery\nis on SATURDAY\, December 20\, 2014
URL:http://dev.maiawaern.com/event/kids-open-stage-at-full-of-beans-3/
LOCATION:Full of Beans Coffee House & Roastery\, 1348 Dundas St. West\, Toronto\, Ontario\, Canada
ATTACH;FMTTYPE=image/jpeg:https://dev.maiawaern.com/wp-content/uploads/2014/11/Dec-20-14-Kids-Open-Stage.jpg
END:VEVENT
END:VCALENDAR