BEGIN:VCALENDAR
VERSION:2.0
PRODID:-//Maia Waern - ECPv5.1.6//NONSGML v1.0//EN
CALSCALE:GREGORIAN
METHOD:PUBLISH
X-WR-CALNAME:Maia Waern
X-ORIGINAL-URL:http://dev.maiawaern.com
X-WR-CALDESC:Events for Maia Waern
BEGIN:VTIMEZONE
TZID:America/Toronto
BEGIN:DAYLIGHT
TZOFFSETFROM:-0500
TZOFFSETTO:-0400
TZNAME:EDT
DTSTART:20140309T070000
END:DAYLIGHT
BEGIN:STANDARD
TZOFFSETFROM:-0400
TZOFFSETTO:-0500
TZNAME:EST
DTSTART:20141102T060000
END:STANDARD
END:VTIMEZONE
BEGIN:VEVENT
DTSTART;TZID=America/Toronto:20141221T160000
DTEND;TZID=America/Toronto:20141221T180000
DTSTAMP:20260421T154002
CREATED:20141130T070529Z
LAST-MODIFIED:20141130T221446Z
UID:1328-1419177600-1419184800@dev.maiawaern.com
SUMMARY:Kids Open Stage at Ellington's
DESCRIPTION:The next Kids Open Stage\nat Ellington’s Music & Café\nis on SUNDAY\, December 21\, 2014
URL:http://dev.maiawaern.com/event/kids-open-stage-at-ellingtons-3/
LOCATION:Ellington’s Music Cafe\, 805 St. Clair Ave. West\, Toronto\, Ontario\, Canada
ATTACH;FMTTYPE=image/jpeg:https://dev.maiawaern.com/wp-content/uploads/2014/11/Dec-21-14-Kids-Open-Stage.jpg
END:VEVENT
END:VCALENDAR