BEGIN:VCALENDAR
VERSION:2.0
PRODID:-//Maia Waern - ECPv5.1.6//NONSGML v1.0//EN
CALSCALE:GREGORIAN
METHOD:PUBLISH
X-WR-CALNAME:Maia Waern
X-ORIGINAL-URL:http://dev.maiawaern.com
X-WR-CALDESC:Events for Maia Waern
BEGIN:VTIMEZONE
TZID:America/Toronto
BEGIN:DAYLIGHT
TZOFFSETFROM:-0500
TZOFFSETTO:-0400
TZNAME:EDT
DTSTART:20150308T070000
END:DAYLIGHT
BEGIN:STANDARD
TZOFFSETFROM:-0400
TZOFFSETTO:-0500
TZNAME:EST
DTSTART:20151101T060000
END:STANDARD
END:VTIMEZONE
BEGIN:VEVENT
DTSTART;TZID=America/Toronto:20150215T160000
DTEND;TZID=America/Toronto:20150215T180000
DTSTAMP:20260421T134506
CREATED:20150121T212012Z
LAST-MODIFIED:20150123T045815Z
UID:1389-1424016000-1424023200@dev.maiawaern.com
SUMMARY:Kids Open Stage
DESCRIPTION:Sunday\, February 15th  \n4-6pm  \n$5 or pay what you can  \nAudience welcome\nFamily jams encouraged\nUkuleles\, hand drums & piano in-house  \nAnd I think to myself\nWhat a wonderful world!
URL:http://dev.maiawaern.com/event/kids-open-stage-9/
LOCATION:Ellington’s Music Cafe\, 805 St. Clair Ave. West\, Toronto\, Ontario\, Canada
ATTACH;FMTTYPE=image/jpeg:https://dev.maiawaern.com/wp-content/uploads/2015/01/Feb-15-2015-Kids-Open-Stage.jpg
END:VEVENT
END:VCALENDAR