BEGIN:VCALENDAR
VERSION:2.0
PRODID:-//Maia Waern - ECPv5.1.6//NONSGML v1.0//EN
CALSCALE:GREGORIAN
METHOD:PUBLISH
X-WR-CALNAME:Maia Waern
X-ORIGINAL-URL:http://dev.maiawaern.com
X-WR-CALDESC:Events for Maia Waern
BEGIN:VTIMEZONE
TZID:America/Toronto
BEGIN:DAYLIGHT
TZOFFSETFROM:-0500
TZOFFSETTO:-0400
TZNAME:EDT
DTSTART:20140309T070000
END:DAYLIGHT
BEGIN:STANDARD
TZOFFSETFROM:-0400
TZOFFSETTO:-0500
TZNAME:EST
DTSTART:20141102T060000
END:STANDARD
END:VTIMEZONE
BEGIN:VEVENT
DTSTART;TZID=America/Toronto:20140914T160000
DTEND;TZID=America/Toronto:20140914T180000
DTSTAMP:20260421T231000
CREATED:20140814T025348Z
LAST-MODIFIED:20140816T201456Z
UID:1168-1410710400-1410717600@dev.maiawaern.com
SUMMARY:Kids Open Stage
DESCRIPTION:Meet new friends or bring your own\nStand up and applaud or sing alone \nKids\, this stage is just for you\nFamily jams are welcome too \nSing loud like a lion or soft like a mouse\nUkes and hand-drums are in-house \nPay what you can at this monthly event\nKids Open Stage — it’s time well spent! \n$2 or pay what you can \n($2 per family helps with promotional and transportation costs) \n* Remember your camera! *
URL:http://dev.maiawaern.com/event/kids-open-stage-5/
LOCATION:Ellington’s Music Cafe\, 805 St. Clair Ave. West\, Toronto\, Ontario\, Canada
ATTACH;FMTTYPE=image/jpeg:https://dev.maiawaern.com/wp-content/uploads/2014/08/Sept-14-Kids-Open-Stage-at-Ellingtons.jpg
END:VEVENT
END:VCALENDAR