BEGIN:VCALENDAR
VERSION:2.0
PRODID:-//Maia Waern - ECPv5.1.6//NONSGML v1.0//EN
CALSCALE:GREGORIAN
METHOD:PUBLISH
X-WR-CALNAME:Maia Waern
X-ORIGINAL-URL:http://dev.maiawaern.com
X-WR-CALDESC:Events for Maia Waern
BEGIN:VTIMEZONE
TZID:America/Toronto
BEGIN:DAYLIGHT
TZOFFSETFROM:-0500
TZOFFSETTO:-0400
TZNAME:EDT
DTSTART:20140309T070000
END:DAYLIGHT
BEGIN:STANDARD
TZOFFSETFROM:-0400
TZOFFSETTO:-0500
TZNAME:EST
DTSTART:20141102T060000
END:STANDARD
END:VTIMEZONE
BEGIN:VEVENT
DTSTART;TZID=America/Toronto:20140413T160000
DTEND;TZID=America/Toronto:20140413T180000
DTSTAMP:20260424T044908
CREATED:20140403T034540Z
LAST-MODIFIED:20140403T034540Z
UID:881-1397404800-1397412000@dev.maiawaern.com
SUMMARY:Kids Open Stage
DESCRIPTION:On the Second Sunday of each month!\n2 microphones\, 2 hours\, 2 dollars\nHand drums & ukuleles in-house\nTeddy bears get their own mic\nAudience members welcome\nPoets & artists encouraged\nFire juggling prohibited\nComedians tolerated\nEveryone invited!\n\n\nDonations help with printing & parking\n\n* Remember to bring your camera *
URL:http://dev.maiawaern.com/event/kids-open-stage-2/
LOCATION:Ellington’s Music Cafe\, 805 St. Clair Ave. West\, Toronto\, Ontario\, Canada
ATTACH;FMTTYPE=image/jpeg:https://dev.maiawaern.com/wp-content/uploads/2014/04/Kids-Open-Stage-April-13.jpg
END:VEVENT
END:VCALENDAR