BEGIN:VCALENDAR
VERSION:2.0
PRODID:-//Maia Waern - ECPv5.1.6//NONSGML v1.0//EN
CALSCALE:GREGORIAN
METHOD:PUBLISH
X-WR-CALNAME:Maia Waern
X-ORIGINAL-URL:http://dev.maiawaern.com
X-WR-CALDESC:Events for Maia Waern
BEGIN:VTIMEZONE
TZID:America/Toronto
BEGIN:DAYLIGHT
TZOFFSETFROM:-0500
TZOFFSETTO:-0400
TZNAME:EDT
DTSTART:20150308T070000
END:DAYLIGHT
BEGIN:STANDARD
TZOFFSETFROM:-0400
TZOFFSETTO:-0500
TZNAME:EST
DTSTART:20151101T060000
END:STANDARD
END:VTIMEZONE
BEGIN:VEVENT
DTSTART;TZID=America/Toronto:20150510T160000
DTEND;TZID=America/Toronto:20150510T180000
DTSTAMP:20260421T131209
CREATED:20150502T010148Z
LAST-MODIFIED:20150502T010148Z
UID:1465-1431273600-1431280800@dev.maiawaern.com
SUMMARY:Kids Open Stage
DESCRIPTION:Sunday\, May 10\, 4-6pm \nWhat happens when Kids Open Stage is on Mother’s Day? \nMother’s Day gets a theme song! \nLean on me\nWhen you’re not strong \nAnd I’ll be your friend\nI’ll help you carry on \nFor it won’t be long\n‘Til I’m gonna need\nSomebody to lean on \nYou just call on me\, mommy!
URL:http://dev.maiawaern.com/event/kids-open-stage-15/
LOCATION:Ellington’s Music Cafe\, 805 St. Clair Ave. West\, Toronto\, Ontario\, Canada
ATTACH;FMTTYPE=image/jpeg:https://dev.maiawaern.com/wp-content/uploads/2015/05/May-10-2015-Kids-Open-Stage.jpg
END:VEVENT
END:VCALENDAR