BEGIN:VCALENDAR
VERSION:2.0
PRODID:-//Maia Waern - ECPv5.1.6//NONSGML v1.0//EN
CALSCALE:GREGORIAN
METHOD:PUBLISH
X-WR-CALNAME:Maia Waern
X-ORIGINAL-URL:http://dev.maiawaern.com
X-WR-CALDESC:Events for Maia Waern
BEGIN:VTIMEZONE
TZID:America/Toronto
BEGIN:DAYLIGHT
TZOFFSETFROM:-0500
TZOFFSETTO:-0400
TZNAME:EDT
DTSTART:20150308T070000
END:DAYLIGHT
BEGIN:STANDARD
TZOFFSETFROM:-0400
TZOFFSETTO:-0500
TZNAME:EST
DTSTART:20151101T060000
END:STANDARD
END:VTIMEZONE
BEGIN:VEVENT
DTSTART;TZID=America/Toronto:20150719T160000
DTEND;TZID=America/Toronto:20150719T180000
DTSTAMP:20260421T060628
CREATED:20150704T173117Z
LAST-MODIFIED:20150705T011814Z
UID:1515-1437321600-1437328800@dev.maiawaern.com
SUMMARY:Kids Open Stage
DESCRIPTION:
URL:http://dev.maiawaern.com/event/kids-open-stage-13/
LOCATION:Ellington’s Music Cafe\, 805 St. Clair Ave. West\, Toronto\, Ontario\, Canada
ATTACH;FMTTYPE=image/jpeg:https://dev.maiawaern.com/wp-content/uploads/2015/07/July-19-2015-Kids-Open-Stage.jpg
END:VEVENT
END:VCALENDAR