BEGIN:VCALENDAR
VERSION:2.0
PRODID:-//Maia Waern - ECPv5.1.6//NONSGML v1.0//EN
CALSCALE:GREGORIAN
METHOD:PUBLISH
X-WR-CALNAME:Maia Waern
X-ORIGINAL-URL:http://dev.maiawaern.com
X-WR-CALDESC:Events for Maia Waern
BEGIN:VTIMEZONE
TZID:America/Toronto
BEGIN:DAYLIGHT
TZOFFSETFROM:-0500
TZOFFSETTO:-0400
TZNAME:EDT
DTSTART:20150308T070000
END:DAYLIGHT
BEGIN:STANDARD
TZOFFSETFROM:-0400
TZOFFSETTO:-0500
TZNAME:EST
DTSTART:20151101T060000
END:STANDARD
END:VTIMEZONE
BEGIN:VEVENT
DTSTART;TZID=America/Toronto:20150419T160000
DTEND;TZID=America/Toronto:20150419T180000
DTSTAMP:20260421T104720
CREATED:20150402T031709Z
LAST-MODIFIED:20150406T171839Z
UID:1435-1429459200-1429466400@dev.maiawaern.com
SUMMARY:Kids Open Stage
DESCRIPTION:Kids Open Stage is for babies\, toddlers\, kids & teenagers \n \nAnd also for parents\, grandparents\, friends & caregivers \n \nBring your little loved ones \nAnd I’ll bring mine! \n~ Maia
URL:http://dev.maiawaern.com/event/kids-open-stage-11/
LOCATION:Ellington’s Music Cafe\, 805 St. Clair Ave. West\, Toronto\, Ontario\, Canada
ATTACH;FMTTYPE=image/jpeg:https://dev.maiawaern.com/wp-content/uploads/2015/04/April-19-2015-Kids-Open-Stage.jpg
END:VEVENT
END:VCALENDAR