BEGIN:VCALENDAR
VERSION:2.0
PRODID:-//Maia Waern - ECPv5.1.6//NONSGML v1.0//EN
CALSCALE:GREGORIAN
METHOD:PUBLISH
X-WR-CALNAME:Maia Waern
X-ORIGINAL-URL:http://dev.maiawaern.com
X-WR-CALDESC:Events for Maia Waern
BEGIN:VTIMEZONE
TZID:America/Toronto
BEGIN:DAYLIGHT
TZOFFSETFROM:-0500
TZOFFSETTO:-0400
TZNAME:EDT
DTSTART:20150308T070000
END:DAYLIGHT
BEGIN:STANDARD
TZOFFSETFROM:-0400
TZOFFSETTO:-0500
TZNAME:EST
DTSTART:20151101T060000
END:STANDARD
END:VTIMEZONE
BEGIN:VEVENT
DTSTART;TZID=America/Toronto:20150315T160000
DTEND;TZID=America/Toronto:20150315T180000
DTSTAMP:20260421T124336
CREATED:20150227T044442Z
LAST-MODIFIED:20150227T044442Z
UID:1427-1426435200-1426442400@dev.maiawaern.com
SUMMARY:Kids Open Stage
DESCRIPTION:Kids Open Stage: \n~ where kids can be kids\n~ teens can act any age\n~ toddlers get sing-a-longs\n~ and parents smile a lot! \n~ family jams encouraged\n~ audience members always welcome\n~ ukuleles\, hand drums & piano in-house! \nBring your little loved ones\n~ and I’ll bring mine \n$5 or pay what you can
URL:http://dev.maiawaern.com/event/kids-open-stage-10/
LOCATION:Ellington’s Music Cafe\, 805 St. Clair Ave. West\, Toronto\, Ontario\, Canada
ATTACH;FMTTYPE=image/jpeg:https://dev.maiawaern.com/wp-content/uploads/2015/02/March-15-2015-Kids-Open-Stage1.jpg
END:VEVENT
END:VCALENDAR